BEGIN:VCALENDAR
VERSION:2.0
PRODID:-//Migraine Canada - ECPv6.15.20//NONSGML v1.0//EN
CALSCALE:GREGORIAN
METHOD:PUBLISH
X-ORIGINAL-URL:https://migrainecanada.org
X-WR-CALDESC:Events for Migraine Canada
REFRESH-INTERVAL;VALUE=DURATION:PT1H
X-Robots-Tag:noindex
X-PUBLISHED-TTL:PT1H
BEGIN:VTIMEZONE
TZID:America/Toronto
BEGIN:DAYLIGHT
TZOFFSETFROM:-0500
TZOFFSETTO:-0400
TZNAME:EDT
DTSTART:20250309T070000
END:DAYLIGHT
BEGIN:STANDARD
TZOFFSETFROM:-0400
TZOFFSETTO:-0500
TZNAME:EST
DTSTART:20251102T060000
END:STANDARD
BEGIN:DAYLIGHT
TZOFFSETFROM:-0500
TZOFFSETTO:-0400
TZNAME:EDT
DTSTART:20260308T070000
END:DAYLIGHT
BEGIN:STANDARD
TZOFFSETFROM:-0400
TZOFFSETTO:-0500
TZNAME:EST
DTSTART:20261101T060000
END:STANDARD
BEGIN:DAYLIGHT
TZOFFSETFROM:-0500
TZOFFSETTO:-0400
TZNAME:EDT
DTSTART:20270314T070000
END:DAYLIGHT
BEGIN:STANDARD
TZOFFSETFROM:-0400
TZOFFSETTO:-0500
TZNAME:EST
DTSTART:20271107T060000
END:STANDARD
END:VTIMEZONE
BEGIN:VEVENT
DTSTART;TZID=America/Toronto:20260316T193000
DTEND;TZID=America/Toronto:20260316T203000
DTSTAMP:20260422T094346
CREATED:20260209T224144Z
LAST-MODIFIED:20260302T201859Z
UID:11197-1773689400-1773693000@migrainecanada.org
SUMMARY:Migraine and Cognition: Clearing the Brain Fog Webinar
DESCRIPTION:🎙️ Presented by: Dr. Alex Melinyshyn\, BSc\, MD\, FRCPC (Neurology). \n🗓️ Monday\, March 16\, 2026🕢 7:30 PM EST \nTopics include: \n\nBrain fog and cognitive complaints in people with migraine\nWhat can HCPs offer patients for evaluation and treatment?\nMigraine and dementia: what is the real risk?\nNon-specific white matter lesions in migraine: are they truly benign?\n\nRegister now to secure your spot! \nThere will be a Q&A at the end of the webinar. \nRead the webinar behavioural rules here. \nThis free webinar is made possible by community support. Donations help us expand migraine education\, programs\, and advocacy nationwide. Donate today
URL:https://migrainecanada.org/event/migraine-and-cognition-clearing-the-brain-fog-webinar/
ATTACH;FMTTYPE=image/png:https://migrainecanada.org/wp-content/uploads/2026/02/Migraine-and-Cognition-Clearing-the-Brain-Fog-Webinar-2.png
END:VEVENT
END:VCALENDAR